BEGIN:VCALENDAR
VERSION:2.0
PRODID:-//wp-events-plugin.com//7.2.3.1//EN
TZID:America/Los_Angeles
X-WR-TIMEZONE:America/Los_Angeles
BEGIN:VEVENT
UID:14@stmarystars.com
DTSTART:20260528T000000Z
DTEND:20260528T000000Z
DTSTAMP:20260213T230807Z
URL:https://stmarystars.com/events/spring-concert/
SUMMARY:Spring Concert
DESCRIPTION:
ATTACH;FMTTYPE=image/jpeg:https://stmarystars.com/wp-content/uploads/2023/
 09/Spring-Concert-clipart-1.jpg
CATEGORIES:School Events
END:VEVENT
END:VCALENDAR