BEGIN:VCALENDAR
VERSION:2.0
PRODID:-//wp-events-plugin.com//7.2.3.1//EN
TZID:America/Los_Angeles
X-WR-TIMEZONE:America/Los_Angeles
BEGIN:VEVENT
UID:69@stmarystars.com
DTSTART;TZID=America/Los_Angeles:20260504T000000
DTEND;TZID=America/Los_Angeles:20260504T000000
DTSTAMP:20250930T221720Z
URL:https://stmarystars.com/events/may-crowning/
SUMMARY:May Crowning
DESCRIPTION:
ATTACH;FMTTYPE=image/jpeg:https://stmarystars.com/wp-content/uploads/2020/
 04/stmarystarofhteseastatuer-1.jpg
CATEGORIES:School Events
END:VEVENT
BEGIN:VTIMEZONE
TZID:America/Los_Angeles
X-LIC-LOCATION:America/Los_Angeles
BEGIN:DAYLIGHT
DTSTART:20260308T030000
TZOFFSETFROM:-0800
TZOFFSETTO:-0700
TZNAME:PDT
END:DAYLIGHT
END:VTIMEZONE
END:VCALENDAR