BEGIN:VCALENDAR
VERSION:2.0
PRODID:-//wp-events-plugin.com//7.2.3.1//EN
TZID:America/Los_Angeles
X-WR-TIMEZONE:America/Los_Angeles
BEGIN:VEVENT
UID:18@stmarystars.com
DTSTART:20260604T000000Z
DTEND:20260604T000000Z
DTSTAMP:20260213T230910Z
URL:https://stmarystars.com/events/kindergarten-graduation/
SUMMARY:Kindergarten Promotion
DESCRIPTION:
ATTACH;FMTTYPE=image/jpeg:https://stmarystars.com/wp-content/uploads/2024/
 11/kinder-graduation.png
CATEGORIES:School Events
END:VEVENT
END:VCALENDAR