BEGIN:VCALENDAR
VERSION:2.0
PRODID:-//wp-events-plugin.com//7.2.3.1//EN
TZID:America/Los_Angeles
X-WR-TIMEZONE:America/Los_Angeles
BEGIN:VEVENT
UID:11@stmarystars.com
DTSTART:20260425T000000Z
DTEND:20260425T000000Z
DTSTAMP:20260413T190859Z
URL:https://stmarystars.com/events/annual-gala/
SUMMARY:Annual Spring Luau
DESCRIPTION:Purchase your Tickets Today!\n
CATEGORIES:Fundraisers,PTG
END:VEVENT
END:VCALENDAR